BEGIN:VCALENDAR
VERSION:2.0
PRODID:-//ddaysoftware.com//NONSGML DDay.iCal 1.0//EN
BEGIN:VTIMEZONE
TZID:Eastern Standard Time
BEGIN:STANDARD
DTSTART:20251102T020000
RRULE:FREQ=YEARLY;BYDAY=1SU;BYHOUR=2;BYMINUTE=0;BYMONTH=11
TZNAME:Eastern Standard Time
TZOFFSETFROM:-0400
TZOFFSETTO:-0500
END:STANDARD
BEGIN:DAYLIGHT
DTSTART:20250301T020000
RRULE:FREQ=YEARLY;BYDAY=2SU;BYHOUR=2;BYMINUTE=0;BYMONTH=3
TZNAME:Eastern Daylight Time
TZOFFSETFROM:-0500
TZOFFSETTO:-0400
END:DAYLIGHT
END:VTIMEZONE
BEGIN:VEVENT
DESCRIPTION:Please join our munch for a gathering of feedees\, feeders\, fa
 t admirers\, anyone with fat\, feeding\, or weight gain related kinks\, an
 d those who are curious! Our event is open to everyone 18+\, regardless of
  experience\, gender identity\, sexual orientation\, or background. This i
 s not an event to engage in any kinky or feedist activity. Munches are a r
 elaxed\, low-pressure vanilla social event in public spaces where locals c
 an connect and make new friends!\n\nWe're meeting this April\, Tuesday the
  28th from 6:30-9:30pm at Dive Bar & Grille in Regent Square: https://www.
 divebarandgrille.com/location/regent-square/ \n\nIf you have any questions
 \, can reach out to BrainGhost: https://app.feabie.com/@/BrainGhost  or Le
 ishy: https://app.feabie.com/@/Leishy .  If you wish to stay in touch with
  our fellow attendees\, you can join our Discord Server: https://discord.g
 g/XQtChFvaG3 . If you need to report someone for inappropriate behavior/mi
 sconduct\, you can use our incident report form: https://forms.gle/aQCxJHo
 NisSHHS4o7\n\nThis group is supportive of the fat liberation movement. For
  more information\, visit the Feedists for Fat Liberation Website: https:/
 /www.fatliberation.org \n\nEvent details provided by Feabie.\nhttps://www.
 feabie.com/Event/PGHApril2026
DTEND:20260428T183000
DTSTAMP:20260419T163907Z
DTSTART:20260428T183000
LOCATION:Pittsburgh\, Pennsylvania\, United States
SEQUENCE:0
SUMMARY:Pittsburgh Feedism & Fat Admiration Munch: April
UID:6151bd85-61ed-4f5c-b6fb-10d92a9e103b
END:VEVENT
END:VCALENDAR
